View In:
ArcGIS JavaScript
ArcGIS Online map viewer
ArcGIS Earth
Service Description: The Stark County, OH - 2016 Countywide Orthoimagery/LiDAR Project consists of the following: • New countywide 1"=100' scale color digital orthoimagery (with a 6-inch pixel resolution) • New countywide 1-meter LiDAR (average point density) • New 1”=50’ scale color digital orthoimagery (with a 3-inch pixel resolution) covering the Cities of Alliance and North Canton, OH • New 0.7-meter LiDAR (average point density) covering the City of North Canton, OH
The 2016 Stark County Digital Orthoimagery Project - In the Spring of 2016, Stark County obtained new orthoimagery covering the entire county (+/- 581 sq. miles). Products produced were 4-band, 8-bit orthophotos with a 0.5ft ground sample distance (GSD). The aerial imagery was collected during leaf-off conditions at a minimum resolution of 6-inch resolution. The orthos for this task order are delivered as a countywide dataset, consisting of 2500' x 2500' uncompressed 8-bit, 4-band color GeoTIFF files. Horizontal accuracy is based upon NMAS Standards for 1"=100' scale base mapping. Along the perimeter of the project area, ortho-imagery is buffered at 100-feet. Imagery was collected with Intergraph Z/I DMC-II Airborne Digital Frame Camera and rectified using LiDAR data. The file naming convention is as follows: anxxxyyy (Ohio North Zone); Please note that xxx and yyy represent the easting and northing coordinates (respectively) in state plane feet. Each GeoTIFF ortho file is approximately 100 megabytes in size. Additional deliverables include Countywide MrSIDs Seamless Image Database (RGB - 20x and 100x; CIR - 20x and 100x, and tile index provided as ESRI shapefile.
Name: StaticCaches/Ortho_2016_NAD832011
Description: The Stark County, OH - 2016 Countywide Orthoimagery/LiDAR Project consists of the following: • New countywide 1"=100' scale color digital orthoimagery (with a 6-inch pixel resolution) • New countywide 1-meter LiDAR (average point density) • New 1”=50’ scale color digital orthoimagery (with a 3-inch pixel resolution) covering the Cities of Alliance and North Canton, OH • New 0.7-meter LiDAR (average point density) covering the City of North Canton, OH
The 2016 Stark County Digital Orthoimagery Project - In the Spring of 2016, Stark County obtained new orthoimagery covering the entire county (+/- 581 sq. miles). Products produced were 4-band, 8-bit orthophotos with a 0.5ft ground sample distance (GSD). The aerial imagery was collected during leaf-off conditions at a minimum resolution of 6-inch resolution. The orthos for this task order are delivered as a countywide dataset, consisting of 2500' x 2500' uncompressed 8-bit, 4-band color GeoTIFF files. Horizontal accuracy is based upon NMAS Standards for 1"=100' scale base mapping. Along the perimeter of the project area, ortho-imagery is buffered at 100-feet. Imagery was collected with Intergraph Z/I DMC-II Airborne Digital Frame Camera and rectified using LiDAR data. The file naming convention is as follows: anxxxyyy (Ohio North Zone); Please note that xxx and yyy represent the easting and northing coordinates (respectively) in state plane feet. Each GeoTIFF ortho file is approximately 100 megabytes in size. Additional deliverables include Countywide MrSIDs Seamless Image Database (RGB - 20x and 100x; CIR - 20x and 100x, and tile index provided as ESRI shapefile.
Single Fused Map Cache: false
Extent:
XMin: 2202500.0
YMin: 352500.0
XMax: 2362500.0
YMax: 485000.0
Spatial Reference: 103129
(6549)
LatestVCSWkid(0)
Initial Extent:
XMin: 2202500.0
YMin: 352500.0
XMax: 2362500.0
YMax: 485000.0
Spatial Reference: 103129
(6549)
LatestVCSWkid(0)
Full Extent:
XMin: 2202500.0
YMin: 352500.0
XMax: 2362500.0
YMax: 485000.0
Spatial Reference: 103129
(6549)
LatestVCSWkid(0)
Pixel Size X: 0.5
Pixel Size Y: 0.5
Band Count: 3
Pixel Type: U8
RasterFunction Infos: {"rasterFunctionInfos": [{
"name": "None",
"description": "",
"help": ""
}]}
Mensuration Capabilities: Basic
Inspection Capabilities:
Has Histograms: true
Has Colormap: false
Has Multi Dimensions : false
Rendering Rule:
Min Scale: 0
Max Scale: 0
Resampling: false
Copyright Text:
Service Data Type: esriImageServiceDataTypeRGB
Min Values: 30, 48, 32
Max Values: 255, 255, 255
Mean Values: 137.56533592989, 132.00467380721, 114.92852969815
Standard Deviation Values: 58.664165298125, 61.129313487432, 69.289220376966
Object ID Field:
Fields:
None
Default Mosaic Method: Center
Allowed Mosaic Methods:
SortField:
SortValue: null
Mosaic Operator: First
Default Compression Quality: 75
Default Resampling Method: Bilinear
Max Record Count: null
Max Image Height: 4100
Max Image Width: 15000
Max Download Image Count: null
Max Mosaic Image Count: null
Allow Raster Function: true
Allow Copy: true
Allow Analysis: true
Allow Compute TiePoints: false
Supports Statistics: false
Supports Advanced Queries: false
Use StandardizedQueries: true
Raster Type Infos:
Name: Raster Dataset
Description: Supports all ArcGIS Raster Datasets
Help:
Has Raster Attribute Table: false
Edit Fields Info: null
Ownership Based AccessControl For Rasters: null
Child Resources:
Info
Histograms
Statistics
Key Properties
Legend
Raster Function Infos
Supported Operations:
Export Image
Identify
Measure
Compute Histograms
Compute Statistics Histograms
Get Samples
Compute Class Statistics
Query Boundary
Compute Pixel Location
Compute Angles
Validate
Project