{
 "currentVersion": 11.5,
 "serviceDescription": "The Stark County, OH - 2016 Countywide Orthoimagery/LiDAR Project consists of the following: \n\n\u2022\tNew countywide 1\"=100' scale color digital orthoimagery (with a 6-inch pixel resolution) \n\u2022\tNew countywide 1-meter LiDAR (average point density) \n\u2022\tNew 1\u201d=50\u2019 scale color digital orthoimagery (with a 3-inch pixel resolution) covering the Cities of Alliance and North Canton, OH \n\u2022\tNew 0.7-meter LiDAR (average point density) covering the City of North Canton, OH\n \nThe 2016 Stark County Digital Orthoimagery Project - In the Spring of 2016, Stark County obtained new orthoimagery covering the entire county (+/- 581 sq. miles). Products produced were 4-band, 8-bit orthophotos with a 0.5ft ground sample distance (GSD). The aerial imagery was collected during leaf-off conditions at a minimum resolution of 6-inch resolution. The orthos for this task order are delivered as a countywide dataset, consisting of 2500' x 2500' uncompressed 8-bit, 4-band color GeoTIFF files. Horizontal accuracy is based upon NMAS Standards for 1\"=100' scale base mapping. Along the perimeter of the project area, ortho-imagery is buffered at 100-feet. Imagery was collected with Intergraph Z/I DMC-II Airborne Digital Frame Camera and rectified using LiDAR data. The file naming convention is as follows: anxxxyyy (Ohio North Zone); Please note that xxx and yyy represent the easting and northing coordinates (respectively) in state plane feet. Each GeoTIFF ortho file is approximately 100 megabytes in size. Additional deliverables include Countywide MrSIDs Seamless Image Database (RGB - 20x and 100x; CIR - 20x and 100x, and tile index provided as ESRI shapefile.",
 "name": "StaticCaches/Ortho_2016_NAD832011",
 "description": "The Stark County, OH - 2016 Countywide Orthoimagery/LiDAR Project consists of the following: \n\n\u2022\tNew countywide 1\"=100' scale color digital orthoimagery (with a 6-inch pixel resolution) \n\u2022\tNew countywide 1-meter LiDAR (average point density) \n\u2022\tNew 1\u201d=50\u2019 scale color digital orthoimagery (with a 3-inch pixel resolution) covering the Cities of Alliance and North Canton, OH \n\u2022\tNew 0.7-meter LiDAR (average point density) covering the City of North Canton, OH\n \nThe 2016 Stark County Digital Orthoimagery Project - In the Spring of 2016, Stark County obtained new orthoimagery covering the entire county (+/- 581 sq. miles). Products produced were 4-band, 8-bit orthophotos with a 0.5ft ground sample distance (GSD). The aerial imagery was collected during leaf-off conditions at a minimum resolution of 6-inch resolution. The orthos for this task order are delivered as a countywide dataset, consisting of 2500' x 2500' uncompressed 8-bit, 4-band color GeoTIFF files. Horizontal accuracy is based upon NMAS Standards for 1\"=100' scale base mapping. Along the perimeter of the project area, ortho-imagery is buffered at 100-feet. Imagery was collected with Intergraph Z/I DMC-II Airborne Digital Frame Camera and rectified using LiDAR data. The file naming convention is as follows: anxxxyyy (Ohio North Zone); Please note that xxx and yyy represent the easting and northing coordinates (respectively) in state plane feet. Each GeoTIFF ortho file is approximately 100 megabytes in size. Additional deliverables include Countywide MrSIDs Seamless Image Database (RGB - 20x and 100x; CIR - 20x and 100x, and tile index provided as ESRI shapefile.",
 "extent": {
  "xmin": 2202500,
  "ymin": 352500,
  "xmax": 2362500,
  "ymax": 485000,
  "spatialReference": {
   "wkid": 103129,
   "latestWkid": 6549
  }
 },
 "initialExtent": {
  "xmin": 2202500,
  "ymin": 352500,
  "xmax": 2362500,
  "ymax": 485000,
  "spatialReference": {
   "wkid": 103129,
   "latestWkid": 6549
  }
 },
 "fullExtent": {
  "xmin": 2202500,
  "ymin": 352500,
  "xmax": 2362500,
  "ymax": 485000,
  "spatialReference": {
   "wkid": 103129,
   "latestWkid": 6549
  }
 },
 "sortableFields": "",
 "bandCount": 3,
 "pixelType": "U8",
 "minValues": [
  30,
  48,
  32
 ],
 "maxValues": [
  255,
  255,
  255
 ],
 "meanValues": [
  137.56533592989,
  132.00467380721,
  114.92852969815
 ],
 "stdvValues": [
  58.664165298125,
  61.129313487432,
  69.289220376966
 ],
 "serviceProperties": "Center<\/MosaicMethod>First<\/MosaicOperator>true<\/SortAscending><\/LockImageID><\/TileOrderField>0<\/TileOrderBase>0.000000<\/AvgImageSpacingX>0.000000<\/AvgImageSpacingY>0.0<\/ViewPointX>0.0<\/ViewPointY>0.0<\/ViewPointDefShiftX>0.0<\/ViewPointDefShiftY>None<\/CompressionMethod>75<\/CompressionQuality>0.010000<\/CompressionTolerance>Bilinear<\/SamplingMethod><\/ImageServiceProperties><\/ImageServer>",
 "allowedFields": "",
 "hasMultidimensions": false,
 "pixelSizeX": 0.5,
 "pixelSizeY": 0.5,
 "meanPixelSize": 0.15240030480060962,
 "datasetFormat": "MrSID",
 "uncompressedSize": 254400000000,
 "blockWidth": 1024,
 "blockHeight": 128,
 "compressionType": "Wavelet (MG3)",
 "bandNames": [
  "Band_1",
  "Band_2",
  "Band_3"
 ],
 "allowCopy": true,
 "allowAnalysis": true,
 "itemAccess": false,
 "inspectionCapabilities": "",
 "minPixelSize": 0,
 "maxPixelSize": 0,
 "copyrightText": "",
 "serviceDataType": "esriImageServiceDataTypeRGB",
 "serviceSourceType": "esriImageServiceSourceTypeDataset",
 "objectIdField": "",
 "fields": [],
 "capabilities": "Mensuration,Image,Metadata",
 "defaultMosaicMethod": "Center",
 "allowedMosaicMethods": "",
 "sortField": "",
 "sortValue": null,
 "sortAscending": true,
 "mosaicOperator": "First",
 "defaultCompressionQuality": 75,
 "defaultResamplingMethod": "Bilinear",
 "maxImageHeight": 4100,
 "maxImageWidth": 15000,
 "allowRasterFunction": true,
 "rasterFunctionInfos": [
  {
   "name": "None",
   "description": "",
   "help": ""
  }
 ],
 "rasterTypeInfos": [
  {
   "name": "Raster Dataset",
   "description": "Supports all ArcGIS Raster Datasets",
   "help": ""
  }
 ],
 "mensurationCapabilities": "Basic",
 "hasHistograms": true,
 "hasColormap": false,
 "hasRasterAttributeTable": false,
 "minScale": 0,
 "maxScale": 0,
 "exportTilesAllowed": false,
 "supportsStatistics": false,
 "supportsAdvancedQueries": false,
 "editFieldsInfo": null,
 "ownershipBasedAccessControlForRasters": null,
 "allowComputeTiePoints": false,
 "useStandardizedQueries": true,
 "advancedQueryCapabilities": {
  "useStandardizedQueries": true,
  "supportsStatistics": false,
  "supportsOrderBy": false,
  "supportsDistinct": false,
  "supportsPagination": false
 },
 "spatialReference": {
  "wkid": 103129,
  "latestWkid": 6549
 },
 "resampling": false
}
