View In:
ArcGIS JavaScript
ArcGIS Online map viewer
ArcGIS Earth
ArcGIS Pro
Service Description: This is the Stark County Building Footprint layer as pictometry collected in the year 2015
Map Name: Layers
Legend
All Layers and Tables
Layers:
Description: This is the Stark County Building Footprint layer as pictometry collected in the year 2012
Copyright Text: Stark County GIS, Pictometry
Spatial Reference:
102100
(3857)
LatestVCSWkid(0)
Single Fused Map Cache: true
Tile Info:
- Height: 256.0
- Width: 256.0
- DPI: 96.0
-
Levels of Detail: 22
-
Level ID: 0
[ Start Tile, End Tile ]
- Resolution: 156543.03392800014
- Scale: 5.91657527591555E8
-
Level ID: 1
[ Start Tile, End Tile ]
- Resolution: 78271.51696399994
- Scale: 2.95828763795777E8
-
Level ID: 2
[ Start Tile, End Tile ]
- Resolution: 39135.75848200009
- Scale: 1.47914381897889E8
-
Level ID: 3
[ Start Tile, End Tile ]
- Resolution: 19567.87924099992
- Scale: 7.3957190948944E7
-
Level ID: 4
[ Start Tile, End Tile ]
- Resolution: 9783.93962049996
- Scale: 3.6978595474472E7
-
Level ID: 5
[ Start Tile, End Tile ]
- Resolution: 4891.96981024998
- Scale: 1.8489297737236E7
- Format: PNG32
- Compression Quality: 0.0
- Origin: X: -2.0037508342787E7
Y: 2.0037508342787E7
- Spatial Reference: 102100
(3857)
LatestVCSWkid(0)
Storage Info:
- Storage Format: esriMapCacheStorageModeCompactV2
- Packet Size: 128
Initial Extent:
XMin: -9059449.79639279
YMin: 4983394.999921627
XMax: -9055081.516822899
YMax: 4986531.796421282
Spatial Reference: 102100
(3857)
LatestVCSWkid(0)
Full Extent:
XMin: -9089341.06487355
YMin: 4957774.966237952
XMax: -9025995.391277282
YMax: 5011349.841075168
Spatial Reference: 102100
(3857)
LatestVCSWkid(0)
Units: esriMeters
Supported Image Format Types: PNG32,PNG24,PNG,JPG,DIB,TIFF,EMF,PS,PDF,GIF,SVG,SVGZ,BMP
Document Info:
Title: ArcGISProProject.aprx
Author:
Comments: This is the Stark County Building Footprint layer as pictometry collected in the year 2012
Subject: This is the Stark County Building Footprint layer as pictometry collected in the year 2012
Category:
Keywords: Stark County
AntialiasingMode: None
TextAntialiasingMode: Force
Supports Dynamic Layers: false
Resampling: false
MaxRecordCount: 1000
MaxSelectionCount: 2000
MaxImageHeight: 4096
MaxImageWidth: 4096
Supported Query Formats: JSON, geoJSON, PBF
Supports Query Data Elements: true
Min Scale: 9027.977411
Max Scale: 282.124294
Supports Datum Transformation: true
Child Resources:
Info
Supported Operations:
Export Map
Identify
QueryLegends
QueryDomains
Find
Return Updates