<?xml version="1.0" encoding="UTF-8" standalone="no"?>
<metadata>
<idinfo>
<citation>
<citeinfo>
<origin>State of Ohio Office of Information Technology, Ohio Geographically Referenced Information Program</origin>
<pubdate>20251020</pubdate>
<title>Stark_2025_rgb_20x.sid</title>
<geoform>raster</geoform>
</citeinfo>
</citation>
<descript>
<abstract>In the Spring of 2025, Stark County obtained new orthoimagery covering the entire county (+/- 580.6 sq. mi). The aerial imagery was collected during leaf-off conditions with a 6-inch pixel resolution. Imagery was collected with the UltraCam Eagle Sensor. Along the perimeter of the project area, ortho-imagery is buffered at 100-feet. Ground control and lidar data were used to deliver an accurate product to the County. The orthos are delivered as a countywide dataset, consisting of 2,500' x 2,500' uncompressed 8-bit, 4-band color GeoTIFF files. The file naming convention is as follows: anxxxxyyyy (Ohio North Zone); Please note that xxxx and yyyy represent the easting and northing coordinates (respectively) in state plane feet. Each GeoTIFF ortho file is approximately 100 megabytes in size. Additional deliverables include countywide color and color infrared MrSID (Multi resolution Seamless Image Database) images (20x and 100x compressions), FGDC compliant metadata per file, and tile index provided in ESRI shapefile format. Ownership of the data products resides with Stark County and the state of Ohio. Orthoimagery and ancillary data products produced through this contract are public domain data.</abstract>
<purpose>Stark County, OH has a goal to develop and/or update their existing orthoimagery geospatial dataset for use by county agencies, other levels of government, academia, and the general public, and to provide these datasets for inclusion to OGRIP. OGRIP is a State of Ohio resource for geographic information technology users.
</purpose>
</descript>
<timeperd>
<timeinfo>
<mdattim>
<sngdate>
<caldate>20250313</caldate>
</sngdate>
<sngdate>
<caldate>20250318</caldate>
</sngdate>
</mdattim>
</timeinfo>
<current>ground condition</current>
</timeperd>
<status>
<progress>Complete</progress>
<update>As needed</update>
</status>
<spdom>
<bounding>
<westbc>-81.656923</westbc>
<eastbc>-81.072728</eastbc>
<northbc>40.994790</northbc>
<southbc>40.625419</southbc>
</bounding>
</spdom>
<keywords>
<theme>
<themekt>None</themekt>
<themekey>Raster</themekey>
<themekey>Orthophoto</themekey>
<themekey>SID</themekey>
</theme>
<place>
<placekt>None</placekt>
<placekey>United States</placekey>
<placekey>Ohio</placekey>
<placekey>Stark County</placekey>
</place>
</keywords>
<accconst>This data set is in the public domain, and the recipient may not assert any proprietary rights thereto nor represent it to any one as other than a data set produced by Stark County and the Ohio Statewide Imagery Program.</accconst>
<useconst>None. However, users should be aware that temporal changes may have occurred since this dataset was collected and that some parts of these data may no longer represent actual surface conditions. Users should not use these data for critical applications without a full awareness of its limitations.</useconst>
<ptcontac>
<cntinfo>
<cntorgp>
<cntorg>OGRIP</cntorg>
</cntorgp>
<cntpos>GIS Manager</cntpos>
<cntaddr>
<addrtype>mailing and physical address</addrtype>
<address>77 S. High St. - Rm 1990</address>
<city>Columbus</city>
<state>OH</state>
<postal>43215</postal>
<country>USA</country>
</cntaddr>
<cntvoice>(614) 466-4747</cntvoice>
</cntinfo>
</ptcontac>
<native>Esri ArcGIS Pro</native>
</idinfo>
<dataqual>
<logic>This orthophoto imagery follows the boundary of Stark County.</logic>
<complete>The dataset is complete</complete>
<posacc>
<horizpa>
<horizpar>The 15cm (6-inch) orthoimagery was produced by Woolpert to meet ASPRS Positional Accuracy Standards for Digital Geospatial Data (2014) for a 30cm RMSEx / RMSEy Horizontal Accuracy Class which equates to Positional Horizontal Accuracy = +/- 74cm (+/- 2.4ft) at a 95% confidence level.</horizpar>
</horizpa>
</posacc>
<lineage>
<procstep>
<procdesc>The imagery for this task order was acquired using the UltraCam Eagle digital camera. The aerial imagery was captured to produce orthoimagery with a 6-inch pixel resolution. The acquired data was processed and quality controlled immediately. Images were aerotriangulated to finalize their external orientation.</procdesc>
<procdate>20251020</procdate>
<proccont>
<cntinfo>
<cntorgp>
<cntorg>Woolpert</cntorg>
</cntorgp>
<cntpos>Geospatial Services</cntpos>
<cntaddr>
<addrtype>mailing and physical address</addrtype>
<address>4454 Idea Center Blvd.</address>
<city>Dayton</city>
<state>OH</state>
<postal>45430</postal>
<country>USA</country>
</cntaddr>
<cntvoice>(937) 461-5660</cntvoice>
</cntinfo>
</proccont>
</procstep>
<procstep>
<procdesc>The imagery were ortho rectified to existing lidar digital elevation model (DEM) data and then mosaicked together to form a seamless imagery database over the entire task order area using the OrthoVista software. The final digital orthophoto imagery (DOI) were extracted using OrthoVista. Final orthophoto non-overlapping tiles were produced in GeoTIFF format (with World files) using a cell size of 6-inch and a tile size of 2,500’ x 2,500’.</procdesc>
<procdate>20251020</procdate>
<proccont>
<cntinfo>
<cntorgp>
<cntorg>Woolpert</cntorg>
</cntorgp>
<cntpos>Geospatial Services</cntpos>
<cntaddr>
<addrtype>mailing and physical address</addrtype>
<address>4454 Idea Center Blvd.</address>
<city>Dayton</city>
<state>OH</state>
<postal>45430</postal>
<country>USA</country>
</cntaddr>
<cntvoice>(937) 461-5660</cntvoice>
</cntinfo>
</proccont>
</procstep>
<procstep>
<procdesc>In addition to the 6-inch pixel GeoTIFF data set, Woolpert provided the MrSID (Multi resolution Seamless Image Database) imagery. For this task order, orthoimage tiles are combined and compressed into countywide color and color infrared MrSID images (20x and 100x compressions).</procdesc>
<procdate>20251020</procdate>
<proccont>
<cntinfo>
<cntorgp>
<cntorg>Woolpert</cntorg>
</cntorgp>
<cntpos>Geospatial Services</cntpos>
<cntaddr>
<addrtype>mailing and physical address</addrtype>
<address>4454 Idea Center Blvd.</address>
<city>Dayton</city>
<state>OH</state>
<postal>45430</postal>
<country>USA</country>
</cntaddr>
<cntvoice>(937) 461-5660</cntvoice>
<hours>8:00 a.m. to 5:00 p.m. Eastern Time</hours>
</cntinfo>
</proccont>
</procstep>
</lineage>
</dataqual>
<spdoinfo>
<direct>Raster</direct>
<rastinfo>
<rasttype>Pixel</rasttype>
<rowcount>265000</rowcount>
<colcount>320000</colcount>
</rastinfo>
</spdoinfo>
<spref>
<horizsys>
<planar>
<mapproj>
<mapprojn>NAD 1983 StatePlane Ohio North FIPS 3401 Feet</mapprojn>
<lambertc>
<stdparll>40.43333333333333</stdparll>
<stdparll>41.7</stdparll>
<longcm>-82.5</longcm>
<latprjo>39.66666666666666</latprjo>
<feast>1968500.0</feast>
<fnorth>0.0</fnorth>
</lambertc>
</mapproj>
<planci>
<plance>row and column</plance>
<coordrep>
<absres>0.5</absres>
<ordres>0.5</ordres>
</coordrep>
<plandu>foot_us</plandu>
</planci>
</planar>
<geodetic>
<horizdn>D North American 1983</horizdn>
<ellips>GRS 1980</ellips>
<semiaxis>6378137.0</semiaxis>
<denflat>298.257222101</denflat>
</geodetic>
</horizsys>
</spref>
<distinfo>
<distrib>
<cntinfo>
<cntorgp>
<cntorg>OGRIP</cntorg>
</cntorgp>
<cntpos>GIS Manager</cntpos>
<cntaddr>
<addrtype>mailing and physical address</addrtype>
<address>77 S. High St. - Rm 1990</address>
<city>Columbus</city>
<state>OH</state>
<postal>43215</postal>
<country>USA</country>
</cntaddr>
<cntvoice>(614) 466-4747</cntvoice>
</cntinfo>
</distrib>
<resdesc>Downloadable Data</resdesc>
<distliab>The information contained in these data is dynamic and may change over time. The data are not better than the original sources from which they were derived. It is the responsibility of the data user to use the data appropriately and within the limitations of the data for which it was requested and prepared, in general, and these data in particular. The related graphics are intended to aid the data user in acquiring relevant data. It is not appropriate to use the related graphics as data. Woolpert gives no warranty, expressed or implied, as to the accuracy, reliability, or completeness of these data. It is strongly recommended that these data are directly acquired from a Woolpert server, and not indirectly through other sources which may have changed the data in some way. Although these data have been processed successfully upon Woolpert’s computer system, no warranty, expressed or implied, is made regarding the utility of the data on another system, or for general or scientific purposes; nor shall the act of distribution constitute any such warranty. This disclaimer applies both to individual use of the data and aggregate use with other data.</distliab>
<stdorder>
<digform>
<digtinfo>
<formname>SID</formname>
<transize>12130.7</transize>
</digtinfo>
<digtopt>
<onlinopt>
<computer>
<networka>
<networkr>http://ogrip.oit.ohio.gov/ServicesData/StatewideImagery/tabid/86/Default.aspx</networkr>
</networka>
</computer>
</onlinopt>
</digtopt>
</digform>
<fees>None</fees>
</stdorder>
</distinfo>
<metainfo>
<metd>20251020</metd>
<metc>
<cntinfo>
<cntorgp>
<cntorg>OGRIP</cntorg>
</cntorgp>
<cntpos>GIS Manager</cntpos>
<cntaddr>
<addrtype>mailing and physical address</addrtype>
<address>77 S. High St. - Rm 1990</address>
<city>Columbus</city>
<state>OH</state>
<postal>43215</postal>
<country>USA</country>
</cntaddr>
<cntvoice>(614) 466-4747</cntvoice>
</cntinfo>
</metc>
<metstdn>FGDC Content Standards for Digital Geospatial Metadata</metstdn>
<metstdv>FGDC-STD-001-1998</metstdv>
<mettc>local time</mettc>
</metainfo>
<Esri>
<CreaDate>20260527</CreaDate>
<CreaTime>10175400</CreaTime>
<SyncOnce>TRUE</SyncOnce>
<DataProperties>
<itemProps>
</itemProps>
</DataProperties>
</Esri>
<dataIdInfo>
<idAbs/>
<idPurp/>
<idCredit/>
<resConst>
<Consts>
<useLimit/>
</Consts>
</resConst>
<idCitation>
<resTitle>Ortho_2025_NAD832011</resTitle>
</idCitation>
</dataIdInfo>
</metadata>
