<?xml version="1.0" encoding="UTF-8" standalone="no"?>
<metadata>
<idinfo>
<citation>
<citeinfo>
<origin>State of Ohio Office of Information Technology, Ohio Geographically Referenced Information Program</origin>
<pubdate>20161103</pubdate>
<pubtime>Unknown</pubtime>
<title>Stark_2016_rgb_20x.sid</title>
<geoform>raster digital file</geoform>
<pubinfo>
<pubplace>Columbus, OH</pubplace>
<publish>OGRIP</publish>
</pubinfo>
</citeinfo>
</citation>
<descript>
<abstract>The Stark County, OH - 2016 Countywide Orthoimagery/LiDAR Project consists of the following: •	New countywide 1"=100' scale color digital orthoimagery (with a 6-inch pixel resolution) •	New countywide 1-meter LiDAR (average point density) •	New 1”=50’ scale color digital orthoimagery (with a 3-inch pixel resolution) covering the Cities of Alliance and North Canton, OH •	New 0.7-meter LiDAR (average point density) covering the City of North Canton, OH
The 2016 Stark County Digital Orthoimagery Project - In the Spring of 2016, Stark County obtained new orthoimagery covering the entire county (+/- 581 sq. miles). Products produced were 4-band, 8-bit orthophotos with a 0.5ft ground sample distance (GSD). The aerial imagery was collected during leaf-off conditions at a minimum resolution of 6-inch resolution. The orthos for this task order are delivered as a countywide dataset, consisting of 2500' x 2500' uncompressed 8-bit, 4-band color GeoTIFF files. Horizontal accuracy is based upon NMAS Standards for 1"=100' scale base mapping. Along the perimeter of the project area, ortho-imagery is buffered at 100-feet. Imagery was collected with Intergraph Z/I DMC-II Airborne Digital Frame Camera and rectified using LiDAR data. The file naming convention is as follows: anxxxyyy (Ohio North Zone); Please note that xxx and yyy represent the easting and northing coordinates (respectively) in state plane feet. Each GeoTIFF ortho file is approximately 100 megabytes in size. Additional deliverables include Countywide MrSIDs Seamless Image Database (RGB - 20x and 100x; CIR - 20x and 100x, and tile index provided as ESRI shapefile.</abstract>
<purpose>The County has a goal to develop and/or update their existing orthoimagery and LiDAR geospatial datasets for use by City/County/State agencies, other levels of government, academia, and the general public, and to provide these datasets for inclusion to OGRIP. OGRIP is a State of Ohio resource for geographic information technology users.</purpose>
</descript>
<timeperd>
<timeinfo>
<mdattim>
<sngdate>
<caldate>20160326</caldate>
</sngdate>
<sngdate>
<caldate>20160327</caldate>
</sngdate>
<sngdate>
<caldate>20160330</caldate>
</sngdate>
</mdattim>
</timeinfo>
<current>ground condition</current>
</timeperd>
<status>
<progress>Complete</progress>
<update>As needed</update>
</status>
<spdom>
<bounding>
<westbc>-81.656919</westbc>
<eastbc>-81.072724</eastbc>
<northbc>40.994782</northbc>
<southbc>40.625411</southbc>
</bounding>
</spdom>
<keywords>
<theme>
<themekt>None</themekt>
<themekey>Raster</themekey>
<themekey>MrSID</themekey>
</theme>
<place>
<placekt>none</placekt>
<placekey>United States</placekey>
<placekey>Ohio</placekey>
<placekey>Stark County, OH</placekey>
</place>
</keywords>
<accconst>This data set is in the public domain, and the recipient may not assert any proprietary rights thereto nor represent it to any one as other than a data set produced by the Stark County Auditor's Office and the Ohio Statewide Imagery Program.</accconst>
<useconst>This data is for planning purposes only and should not be used for legal or cadastral purposes. This data set is provided "as-is" without warranty of any kind, including, but not limited to, the implied warranties of merchantability and fitness for a particular purpose. User must assume responsiblity for determining the suitability of these data for their purposes.</useconst>
<ptcontac>
<cntinfo>
<cntorgp>
<cntorg>OGRIP</cntorg>
<cntper>Jeff Smith</cntper>
</cntorgp>
<cntpos>GIS Manager</cntpos>
<cntaddr>
<addrtype>mailing and physical address</addrtype>
<address>77 S. High St. - Rm 1990</address>
<city>Columbus</city>
<state>OH</state>
<postal>43215</postal>
<country>USA</country>
</cntaddr>
<cntvoice>(614) 466-4747</cntvoice>
<cntfax>(614) 728-5297</cntfax>
</cntinfo>
</ptcontac>
<native/>
</idinfo>
<dataqual>
<logic>This orthophoto imagery follows the boundary of Stark County.</logic>
<complete>The dataset is complete.</complete>
<posacc>
<horizpa>
<horizpar>The orthoimagery meets the National Map Accuracy Standards for 1"=100' scale.</horizpar>
</horizpa>
</posacc>
<lineage>
<procstep>
<procdesc>The imagery for this task order was acquired using the Intergraph Z/I DMC-II Airborne Digital Frame Camera which uses Z/I Inflight Flight Navigation System and Z/I gyro-stabilized camera mount along with a NovAtel GNSS dual frequency receiver and NovAtel LN-200 series inertial measurement unit (IMU) for the measurements of the camera position and orientation during flight operations. The IMU/Airborne GNSS data was reduced using NovAtel’s Inertial Explorer v8.60 software package. All of the source imagery was initially processed in Leica’s FramePro software for image frame generation, and then final processed using the ImageStation Automatic Traiangulation (ISAT) 2015 software package. This package provides the capability to perform digital image processing, aerial triangulation, and image rectification. The imagery was ortho rectified to newly collected LiDAR digtial elevation model (DEM) data. The individual rectified strips of ortho rectified imagery were then mosaicked together to form a seamless imagery database over the entire task order area using the OrthoVista software (V4.5) by Inpho GmbH. The final digital orthophoto imagery (DOI) were extracted using OrthoVista.</procdesc>
<procdate>20160326</procdate>
<proccont>
<cntinfo>
<cntorgp>
<cntorg>Woolpert, Inc.</cntorg>
</cntorgp>
<cntpos>Geospatial Services</cntpos>
<cntaddr>
<addrtype>mailing and physical address</addrtype>
<address>4454 Idea Center Blvd.</address>
<city>Dayton</city>
<state>OH</state>
<postal>45430</postal>
<country>USA</country>
</cntaddr>
<cntvoice>(937) 461-5660</cntvoice>
<cntfax>(937) 461-0743</cntfax>
<hours>8:00 a.m. to 5:00 p.m. Eastern Time</hours>
</cntinfo>
</proccont>
</procstep>
</lineage>
<cloud>0</cloud>
</dataqual>
<spdoinfo>
<direct>Raster</direct>
<rastinfo>
<rasttype>Pixel</rasttype>
<rowcount>265000</rowcount>
<colcount>320000</colcount>
</rastinfo>
</spdoinfo>
<spref>
<horizsys>
<planar>
<mapproj>
<mapprojn>NAD 1983 2011 StatePlane Ohio North FIPS 3401 Ft US</mapprojn>
<lambertc>
<stdparll>41.7</stdparll>
<stdparll>40.43333333333333</stdparll>
<longcm>-82.5</longcm>
<latprjo>39.66666666666666</latprjo>
<feast>1968500.0</feast>
<fnorth>0.0</fnorth>
</lambertc>
</mapproj>
<planci>
<plance>row and column</plance>
<coordrep>
<absres>0.5</absres>
<ordres>0.5</ordres>
</coordrep>
<plandu>foot_us</plandu>
</planci>
</planar>
<geodetic>
<horizdn>D NAD 1983 2011</horizdn>
<ellips>GRS 1980</ellips>
<semiaxis>6378137.0</semiaxis>
<denflat>298.257222101</denflat>
</geodetic>
</horizsys>
</spref>
<distinfo>
<distrib>
<cntinfo>
<cntorgp>
<cntorg>OGRIP</cntorg>
</cntorgp>
<cntpos>GIS Manager</cntpos>
<cntaddr>
<addrtype>mailing and physical address</addrtype>
<address>77 S. High St. - Rm 1990</address>
<city>Columbus</city>
<state>OH</state>
<postal>43215</postal>
<country>USA</country>
</cntaddr>
<cntvoice>(614) 466-4747</cntvoice>
<cntfax>(614) 728-5297</cntfax>
</cntinfo>
</distrib>
<resdesc>Downloadable Data</resdesc>
<distliab>Woolpert prepared the original data as set forth in the Scope of Services, in accordance with reasonable care and due diligence as set forth in this Agreement, however, due to the easily alterable nature of electronic media, files, documents, and other deliverables, Woolpert, Inc. makes no warranties, either expressed or implied, with respect to the accuracy, completeness, merchantability, or fitness for any particular purpose, including, but not limited to, use of any/all data as described within this metadata file, by any user of this data. Any use will be at the end-user’s sole risk.</distliab>
<stdorder>
<digform>
<digtinfo>
<formname>SID</formname>
</digtinfo>
<digtopt>
<onlinopt>
<computer>
<networka>
<networkr>http://ogrip.oit.ohio.gov/ServicesData/StatewideImagery/tabid/86/Default.aspx</networkr>
</networka>
</computer>
</onlinopt>
<offoptn>
<offmedia>Unknown</offmedia>
<recfmt>Digital</recfmt>
</offoptn>
</digtopt>
</digform>
<fees>None.</fees>
</stdorder>
<availabl>
<timeinfo>
<sngdate>
<caldate>unknown</caldate>
<time>unknown</time>
</sngdate>
</timeinfo>
</availabl>
</distinfo>
<metainfo>
<metd>20161103</metd>
<metc>
<cntinfo>
<cntorgp>
<cntorg>OGRIP</cntorg>
</cntorgp>
<cntpos>GIS Manager</cntpos>
<cntaddr>
<addrtype>mailing and physical address</addrtype>
<address>77 S. High St. - Rm 1990</address>
<city>Columbus</city>
<state>OH</state>
<postal>43215</postal>
<country>USA</country>
</cntaddr>
<cntvoice>(614) 466-4747</cntvoice>
<cntfax>(614) 728-5297</cntfax>
</cntinfo>
</metc>
<metstdn>FGDC Content Standards for Digital Geospatial Metadata</metstdn>
<metstdv>FGDC-STD-001-1998</metstdv>
<mettc>local time</mettc>
</metainfo>
<dataIdInfo>
<idAbs>The Stark County, OH - 2016 Countywide Orthoimagery/LiDAR Project consists of the following: •	New countywide 1"=100' scale color digital orthoimagery (with a 6-inch pixel resolution) •	New countywide 1-meter LiDAR (average point density) •	New 1”=50’ scale color digital orthoimagery (with a 3-inch pixel resolution) covering the Cities of Alliance and North Canton, OH •	New 0.7-meter LiDAR (average point density) covering the City of North Canton, OH
The 2016 Stark County Digital Orthoimagery Project - In the Spring of 2016, Stark County obtained new orthoimagery covering the entire county (+/- 581 sq. miles). Products produced were 4-band, 8-bit orthophotos with a 0.5ft ground sample distance (GSD). The aerial imagery was collected during leaf-off conditions at a minimum resolution of 6-inch resolution. The orthos for this task order are delivered as a countywide dataset, consisting of 2500' x 2500' uncompressed 8-bit, 4-band color GeoTIFF files. Horizontal accuracy is based upon NMAS Standards for 1"=100' scale base mapping. Along the perimeter of the project area, ortho-imagery is buffered at 100-feet. Imagery was collected with Intergraph Z/I DMC-II Airborne Digital Frame Camera and rectified using LiDAR data. The file naming convention is as follows: anxxxyyy (Ohio North Zone); Please note that xxx and yyy represent the easting and northing coordinates (respectively) in state plane feet. Each GeoTIFF ortho file is approximately 100 megabytes in size. Additional deliverables include Countywide MrSIDs Seamless Image Database (RGB - 20x and 100x; CIR - 20x and 100x, and tile index provided as ESRI shapefile.</idAbs>
<searchKeys>
<keyword>United States</keyword>
<keyword>Ohio</keyword>
<keyword>Stark County</keyword>
<keyword>OH</keyword>
<keyword>Raster</keyword>
<keyword>MrSID</keyword>
</searchKeys>
<idPurp>Aerial Imagery 2016 in NAD82_2011 projection</idPurp>
<idCredit/>
<resConst>
<Consts>
<useLimit/>
</Consts>
</resConst>
<idCitation>
<resTitle>Stark_2016_rgb_20x.sid</resTitle>
</idCitation>
</dataIdInfo>
</metadata>
